BEGIN:VCALENDAR
VERSION:2.0
PRODID:-//wp-events-plugin.com//7.2.3.1//EN
TZID:Europe/Berlin
X-WR-TIMEZONE:Europe/Berlin
BEGIN:VEVENT
UID:677@zukunftsaktiv.de
DTSTART;TZID=Europe/Berlin:20260417T150000
DTEND;TZID=Europe/Berlin:20260417T180000
DTSTAMP:20260412T140503Z
URL:https://zukunftsaktiv.de/veranstaltung/workshop-zum-4-internationalen-
 stadtkanalkongress/
SUMMARY:Workshop zum 4. Internationalen Stadtkanalkongress
DESCRIPTION:\nAbpflastern!Wir entsiegeln gemeinsam eine Fläche auf dem Gel
 ände der AEG – Hof A\n
ATTACH;FMTTYPE=image/jpeg:https://zukunftsaktiv.de/wp-content/uploads/2024
 /12/nfsk-512x512-1.png
CATEGORIES:Workshop
LOCATION:Kulturwerkstatt Auf AEG\, Fürther Str. 244d\, Nürnberg\, Bayern\
 , 90429\, Deutschland
X-APPLE-STRUCTURED-LOCATION;VALUE=URI;X-ADDRESS=Fürther Str. 244d\, Nürnb
 erg\, Bayern\, 90429\, Deutschland;X-APPLE-RADIUS=100;X-TITLE=Kulturwerkst
 att Auf AEG:geo:0,0
END:VEVENT
BEGIN:VTIMEZONE
TZID:Europe/Berlin
X-LIC-LOCATION:Europe/Berlin
BEGIN:DAYLIGHT
DTSTART:20260329T030000
TZOFFSETFROM:+0100
TZOFFSETTO:+0200
TZNAME:CEST
END:DAYLIGHT
END:VTIMEZONE
END:VCALENDAR