BEGIN:VCALENDAR
VERSION:2.0
PRODID:-//wp-events-plugin.com//7.2.3.1//EN
TZID:Europe/Berlin
X-WR-TIMEZONE:Europe/Berlin
BEGIN:VEVENT
UID:643@zukunftsaktiv.de
DTSTART;TZID=Europe/Berlin:20251016T180000
DTEND;TZID=Europe/Berlin:20251016T200000
DTSTAMP:20251007T082637Z
URL:https://zukunftsaktiv.de/veranstaltung/wohin-mit-dem-solar-strom-strom
 netzausbau-und-erneuerbare-energien-in-nuernberg/
SUMMARY:Wohin mit dem Solar-Strom? Stromnetzausbau und Erneuerbare Energien
  in Nürnberg
DESCRIPTION:Öffentlichen Diskussionsveranstaltun zur Frage\, wie sich die 
 Energiewende und insbesondere der Ausbau von Photovoltaik und Windkraft mi
 t einer sicheren Stromversorgung in Nürnberg und der Region vereinbaren l
 assen.
ATTACH;FMTTYPE=image/jpeg:https://zukunftsaktiv.de/wp-content/uploads/2025
 /10/251016-wohin-mit-solarstrom.jpg
LOCATION:Katharinensaal\, Am Katharinenkloster 6\, Nürnberg\, Bayern\, 904
 03\, Deutschland
X-APPLE-STRUCTURED-LOCATION;VALUE=URI;X-ADDRESS=Am Katharinenkloster 6\, N
 ürnberg\, Bayern\, 90403\, Deutschland;X-APPLE-RADIUS=100;X-TITLE=Kathari
 nensaal:geo:0,0
END:VEVENT
BEGIN:VTIMEZONE
TZID:Europe/Berlin
X-LIC-LOCATION:Europe/Berlin
BEGIN:DAYLIGHT
DTSTART:20250330T030000
TZOFFSETFROM:+0100
TZOFFSETTO:+0200
TZNAME:CEST
END:DAYLIGHT
END:VTIMEZONE
END:VCALENDAR