BEGIN:VCALENDAR
VERSION:2.0
PRODID:-//wp-events-plugin.com//7.2.3.1//EN
TZID:Europe/Berlin
X-WR-TIMEZONE:Europe/Berlin
BEGIN:VEVENT
UID:633@zukunftsaktiv.de
DTSTART;TZID=Europe/Berlin:20250923T190000
DTEND;TZID=Europe/Berlin:20250923T203000
DTSTAMP:20250916T091315Z
URL:https://zukunftsaktiv.de/veranstaltung/wie-gelingen-klima-vernetzung-u
 nd-kampagnen-zu-regionalen-wahlen/
SUMMARY:Wie gelingen Klima-Vernetzung und Kampagnen zu regionalen Wahlen?
DESCRIPTION:Wie gelingen Klima-Vernetzung und Kampagnen zu regionalen Wahle
 n?
ATTACH;FMTTYPE=image/jpeg:https://zukunftsaktiv.de/wp-content/uploads/2025
 /09/250923-lessons-learned.jpeg
LOCATION:\, \, 
GEO:0.000000;0.000000
X-APPLE-STRUCTURED-LOCATION;VALUE=URI;X-ADDRESS=\, ;X-APPLE-RADIUS=100;X-TI
 TLE=:geo:0.000000,0.000000
END:VEVENT
BEGIN:VTIMEZONE
TZID:Europe/Berlin
X-LIC-LOCATION:Europe/Berlin
BEGIN:DAYLIGHT
DTSTART:20250330T030000
TZOFFSETFROM:+0100
TZOFFSETTO:+0200
TZNAME:CEST
END:DAYLIGHT
END:VTIMEZONE
END:VCALENDAR