BEGIN:VCALENDAR
VERSION:2.0
PRODID:-//wp-events-plugin.com//7.2.3.1//EN
TZID:Europe/Berlin
X-WR-TIMEZONE:Europe/Berlin
BEGIN:VEVENT
UID:906@zukunftsaktiv.de
DTSTART;TZID=Europe/Berlin:20260428T190000
DTEND;TZID=Europe/Berlin:20260428T200000
DTSTAMP:20260420T151721Z
URL:https://zukunftsaktiv.de/veranstaltung/weniger-ist-fair-suffizienz-als
 -strategie-des-genug/
SUMMARY:„Weniger ist fair“ – Suffizienz als Strategie des Genug
DESCRIPTION:\nWir verbrauchen mehr Ressourcen\, als die Erde erneuern kann 
 – das führt zu schwerwiegenden Problemen wie Umwelt- und Klimakrisen\, 
 Ressourcenknappheit und sozialer wie globaler Ungleichheit. Was bedeutet e
 in „Genug“?\n\n\n\nIm ca. 30-minütigen Input-Vortrag lernen wir Suffi
 zienz als Strategie des Genug auf der Basis der Thesen des Sachverständig
 enrates für Umweltfragen (SRU) kennen.\n\n\n\nIm Anschluss ist Zeit für 
 Fragen und Diskussion:• Welche Herausforderungen sehen wir für uns pers
 önlich?• Wie kann eine gelingende Kommunikation zum Thema Suffizienz au
 ssehen?• Wie bringen wir das Thema in die politische Debatte?\n\n\n\nLin
 k zum Veranstalter &amp\; Anmeldung: https://www.for-future-buendnis.de/..
 ./weniger-ist-fair-suffizienz-als-strategie-des-genug/ \n
ATTACH;FMTTYPE=image/jpeg:https://zukunftsaktiv.de/wp-content/uploads/2026
 /04/260428-suffizienz.jpg
CATEGORIES:Diskussion,Vortrag
LOCATION:\, \, 
X-APPLE-STRUCTURED-LOCATION;VALUE=URI;X-ADDRESS=\, ;X-APPLE-RADIUS=100;X-TI
 TLE=:geo:0,0
END:VEVENT
BEGIN:VTIMEZONE
TZID:Europe/Berlin
X-LIC-LOCATION:Europe/Berlin
BEGIN:DAYLIGHT
DTSTART:20260329T030000
TZOFFSETFROM:+0100
TZOFFSETTO:+0200
TZNAME:CEST
END:DAYLIGHT
END:VTIMEZONE
END:VCALENDAR