BEGIN:VCALENDAR
VERSION:2.0
PRODID:-//wp-events-plugin.com//7.2.3.1//EN
TZID:Europe/Berlin
X-WR-TIMEZONE:Europe/Berlin
BEGIN:VEVENT
UID:896@zukunftsaktiv.de
DTSTART;TZID=Europe/Berlin:20260511T180000
DTEND;TZID=Europe/Berlin:20260511T193000
DTSTAMP:20260412T181507Z
URL:https://zukunftsaktiv.de/veranstaltung/vetolab/
SUMMARY:Vetolab
DESCRIPTION:\nZurück zu innerer Freiheit und Integrität\n\n\n\nIm Vetolab
  lade ich dich ein\, einen ganz besonderen Weg mit mir zu beschreiten: den
  Weg vom „Land des inneren Gehorsams“ hin zur „inneren Freiheit“. 
 In einer Welt\, die immer schneller wird und uns oft dazu verleitet\, uns 
 anzupassen\, unsere eigenen Bedürfnisse zu unterdrücken oder es allen re
 cht machen zu wollen\, spüren wir deutlich den Schmerz\, wenn wir nicht i
 nteger handeln. Das kann uns langfristig kaputtmachen.\n\n\n\nGenau hier s
 etzt das Vetolab an. Basierend auf dem Veto-Prinzip des renommierten Vetoi
 nstituts in Berlin biete ich dir einen offenen Übungsraum an. Hier lernen
  wir gemeinsam\, unsere Integrität zu stärken und unsere Stimme klar und
  konstruktiv einzusetzen. Das ist super wichtig – egal ob in der Famili
 e\, in der Schule\, in der Arbeit\, in der Politik oder im Zusammenleben a
 llgemein. \n\n\n\nEs geht darum\, deine persönlichen Grenzen zu erkennen
  und zu wahren\, authentische Entscheidungen zu treffen und somit ein Lebe
 n zu gestalten\, das wirklich zu dir passt. Wir entdecken gemeinsam\, wie 
 du kraftvoll zu mehr innerer Freiheit und Selbstbestimmung gelangst – f
 ür dich selbst und im Miteinander.\n\n\n\nIch\, Manuela\, bin deine Reise
 begleiterin und halte den Raum für uns. Du kannst jederzeit einsteigen un
 d brauchst keinerlei Vorkenntnisse zum Vetokonzept. Jede:r ist willkommen!
  Weitere Termine: 13.07.\, 14.09.\, 16.11.2026\n\n\n\nLink zum Veranstalt
 er mit allen Infos: https://www.zukunftssalon-fuerth.de/11-5-dein-vetolab-
 im-zukunftssalon-fuerth/\n\n\n\n\n
ATTACH;FMTTYPE=image/jpeg:https://zukunftsaktiv.de/wp-content/uploads/2026
 /04/260511-vetolab.jpg
CATEGORIES:Schulung
LOCATION:Tataa! Der Fürther Zukunftssalon\, Marktplatz 4\, Fürth\, Bayern
 \, 90762\, Mittelfranken\, Deutschland
X-APPLE-STRUCTURED-LOCATION;VALUE=URI;X-ADDRESS=Marktplatz 4\, Fürth\, Bay
 ern\, 90762\, Mittelfranken\, Deutschland;X-APPLE-RADIUS=100;X-TITLE=Tataa
 ! Der Fürther Zukunftssalon:geo:0,0
END:VEVENT
BEGIN:VTIMEZONE
TZID:Europe/Berlin
X-LIC-LOCATION:Europe/Berlin
BEGIN:DAYLIGHT
DTSTART:20260329T030000
TZOFFSETFROM:+0100
TZOFFSETTO:+0200
TZNAME:CEST
END:DAYLIGHT
END:VTIMEZONE
END:VCALENDAR