BEGIN:VCALENDAR
VERSION:2.0
PRODID:-//wp-events-plugin.com//7.2.3.1//EN
TZID:Europe/Berlin
X-WR-TIMEZONE:Europe/Berlin
BEGIN:VEVENT
UID:894@zukunftsaktiv.de
DTSTART;TZID=Europe/Berlin:20260425T110000
DTEND;TZID=Europe/Berlin:20260425T150000
DTSTAMP:20260412T173134Z
URL:https://zukunftsaktiv.de/veranstaltung/tag-des-baumes/
SUMMARY:Tag des Baumes
DESCRIPTION:Mehr über Bäume in der Stadt\, auch vor der eigenen Haustür\
 , erfahren.
ATTACH;FMTTYPE=image/jpeg:https://zukunftsaktiv.de/wp-content/uploads/2026
 /04/260425-tag-des-baumes.jpg
CATEGORIES:Sonstige Veranstaltung,Vortrag,Workshop
LOCATION:Stadtpark Nürnberg - Neptunbrunnen\, Stadtpark\, Nürnberg\, 9040
 9\, Deutschland
X-APPLE-STRUCTURED-LOCATION;VALUE=URI;X-ADDRESS=Stadtpark\, Nürnberg\, 904
 09\, Deutschland;X-APPLE-RADIUS=100;X-TITLE=Stadtpark Nürnberg - Neptunbr
 unnen:geo:0,0
END:VEVENT
BEGIN:VTIMEZONE
TZID:Europe/Berlin
X-LIC-LOCATION:Europe/Berlin
BEGIN:DAYLIGHT
DTSTART:20260329T030000
TZOFFSETFROM:+0100
TZOFFSETTO:+0200
TZNAME:CEST
END:DAYLIGHT
END:VTIMEZONE
END:VCALENDAR