BEGIN:VCALENDAR
VERSION:2.0
PRODID:-//wp-events-plugin.com//7.2.3.1//EN
TZID:Europe/Berlin
X-WR-TIMEZONE:Europe/Berlin
BEGIN:VEVENT
UID:372@zukunftsaktiv.de
DTSTART;TZID=Europe/Berlin:20250510T101500
DTEND;TZID=Europe/Berlin:20250510T133000
DTSTAMP:20250505T211330Z
URL:https://zukunftsaktiv.de/veranstaltung/radeln-fuer-den-klimaschutz/
SUMMARY:Radeln für den Klimaschutz
DESCRIPTION:Radeln für den Klimaschutz - von Nürnberg nach Lauf.
CATEGORIES:Demonstration
LOCATION:Hauptmarkt - Nordostseite\, beim Prantl-Stein\, Hauptmarkt\, Nürn
 berg\, Bayern\, 90403\, Deutschland
X-APPLE-STRUCTURED-LOCATION;VALUE=URI;X-ADDRESS=Hauptmarkt\, Nürnberg\, Ba
 yern\, 90403\, Deutschland;X-APPLE-RADIUS=100;X-TITLE=Hauptmarkt - Nordost
 seite\, beim Prantl-Stein:geo:0,0
END:VEVENT
BEGIN:VTIMEZONE
TZID:Europe/Berlin
X-LIC-LOCATION:Europe/Berlin
BEGIN:DAYLIGHT
DTSTART:20250330T030000
TZOFFSETFROM:+0100
TZOFFSETTO:+0200
TZNAME:CEST
END:DAYLIGHT
END:VTIMEZONE
END:VCALENDAR