BEGIN:VCALENDAR
VERSION:2.0
PRODID:-//wp-events-plugin.com//7.2.3.1//EN
TZID:Europe/Berlin
X-WR-TIMEZONE:Europe/Berlin
BEGIN:VEVENT
UID:725@zukunftsaktiv.de
DTSTART;TZID=Europe/Berlin:20260128T190000
DTEND;TZID=Europe/Berlin:20260128T210000
DTSTAMP:20260108T203346Z
URL:https://zukunftsaktiv.de/veranstaltung/podiumsdiskussion-mit-den-ob-ka
 ndidaten-fuerth-zum-thema-verkehr/
SUMMARY:Podiumsdiskussion mit den OB-Kandidaten Fürth zum Thema Verkehr
DESCRIPTION:Es diskutieren:\nMax Ammon\, CSU\nDr. Thomas Jung\, SPD\nKamran
  Salimi\, DIE GRÜNEN
ATTACH;FMTTYPE=image/jpeg:https://zukunftsaktiv.de/wp-content/uploads/2026
 /01/260128-podiumsdiskusssion-fuerth.jpeg
CATEGORIES:Diskussion
LOCATION:VHS | Volkshochschule Fürth\, Hirschenstraße 27 / 29\, Fürth\, 
 90762\, Deutschland
X-APPLE-STRUCTURED-LOCATION;VALUE=URI;X-ADDRESS=Hirschenstraße 27 / 29\, F
 ürth\, 90762\, Deutschland;X-APPLE-RADIUS=100;X-TITLE=VHS | Volkshochschu
 le Fürth:geo:0,0
END:VEVENT
BEGIN:VTIMEZONE
TZID:Europe/Berlin
X-LIC-LOCATION:Europe/Berlin
BEGIN:STANDARD
DTSTART:20251026T020000
TZOFFSETFROM:+0200
TZOFFSETTO:+0100
TZNAME:CET
END:STANDARD
END:VTIMEZONE
END:VCALENDAR