BEGIN:VCALENDAR
VERSION:2.0
PRODID:-//wp-events-plugin.com//7.2.3.1//EN
TZID:Europe/Berlin
X-WR-TIMEZONE:Europe/Berlin
BEGIN:VEVENT
UID:907@zukunftsaktiv.de
DTSTART;TZID=Europe/Berlin:20260511T143000
DTEND;TZID=Europe/Berlin:20260511T160000
DTSTAMP:20260421T102213Z
URL:https://zukunftsaktiv.de/veranstaltung/offenes-treffen-der-oldies4futu
 re-2/
SUMMARY:Offenes Treffen der Oldies4Future
DESCRIPTION:
ATTACH;FMTTYPE=image/jpeg:https://zukunftsaktiv.de/wp-content/uploads/2025
 /11/oldiesforfuture.png
CATEGORIES:Offenes Treffen
LOCATION:Ukama-Zentrum für sozial-ökologische Transformation\, Virchowstr
 . 27\, Nürnberg\, Bayern\, 90409\, Deutschland
X-APPLE-STRUCTURED-LOCATION;VALUE=URI;X-ADDRESS=Virchowstr. 27\, Nürnberg\
 , Bayern\, 90409\, Deutschland;X-APPLE-RADIUS=100;X-TITLE=Ukama-Zentrum f
 ür sozial-ökologische Transformation:geo:0,0
END:VEVENT
BEGIN:VTIMEZONE
TZID:Europe/Berlin
X-LIC-LOCATION:Europe/Berlin
BEGIN:DAYLIGHT
DTSTART:20260329T030000
TZOFFSETFROM:+0100
TZOFFSETTO:+0200
TZNAME:CEST
END:DAYLIGHT
END:VTIMEZONE
END:VCALENDAR