BEGIN:VCALENDAR
VERSION:2.0
PRODID:-//wp-events-plugin.com//7.2.3.1//EN
TZID:Europe/Berlin
X-WR-TIMEZONE:Europe/Berlin
BEGIN:VEVENT
UID:730@zukunftsaktiv.de
DTSTART;TZID=Europe/Berlin:20260127T160000
DTEND;TZID=Europe/Berlin:20260127T170000
DTSTAMP:20260110T184014Z
URL:https://zukunftsaktiv.de/veranstaltung/nur-mut-texte-fuer-eine-bessere
 -zukunft/
SUMMARY:Nur Mut! Texte für eine bessere Zukunft
DESCRIPTION:Ein gemütlicher Nachmittag im Kaffeesurium\, Musik von Stefani
 e Waegner und Texte von Maja Göpel\, Lusia Neubauer\, Tich Nath Hanh und 
 Ruth Lenz-Tichai\, die Mut machen für eine bessere Zukunft.
ATTACH;FMTTYPE=image/jpeg:https://zukunftsaktiv.de/wp-content/uploads/2026
 /01/260127-nur-mut.png
CATEGORIES:Kulturveranstaltung
LOCATION:Kaffeesurium GmbH\, Blumenstr. 3\, Fürth\, Bayern\, 90762\, Mitte
 lfranken\, Deutschland
X-APPLE-STRUCTURED-LOCATION;VALUE=URI;X-ADDRESS=Blumenstr. 3\, Fürth\, Bay
 ern\, 90762\, Mittelfranken\, Deutschland;X-APPLE-RADIUS=100;X-TITLE=Kaffe
 esurium GmbH:geo:0,0
END:VEVENT
BEGIN:VTIMEZONE
TZID:Europe/Berlin
X-LIC-LOCATION:Europe/Berlin
BEGIN:STANDARD
DTSTART:20251026T020000
TZOFFSETFROM:+0200
TZOFFSETTO:+0100
TZNAME:CET
END:STANDARD
END:VTIMEZONE
END:VCALENDAR