BEGIN:VCALENDAR
VERSION:2.0
PRODID:-//wp-events-plugin.com//7.2.3.1//EN
TZID:Europe/Berlin
X-WR-TIMEZONE:Europe/Berlin
BEGIN:VEVENT
UID:664@zukunftsaktiv.de
DTSTART;TZID=Europe/Berlin:20251111T190000
DTEND;TZID=Europe/Berlin:20251111T201500
DTSTAMP:20251104T173947Z
URL:https://zukunftsaktiv.de/veranstaltung/mit-einem-antrag-raus-aus-dem-g
 as-webinar/
SUMMARY:Mit einem Antrag raus aus dem Gas! (Webinar)
DESCRIPTION:Stellt einen Antrag an eure Lokalpolitik und bringt den Gasauss
 tieg auf die Agenda. Wir zeigen euch\, wie.
ATTACH;FMTTYPE=image/jpeg:https://zukunftsaktiv.de/wp-content/uploads/2025
 /11/251110-11-aktionstag-energiewende.jpg
CATEGORIES:Vortrag
LOCATION:\, \, 
GEO:0.000000;0.000000
X-APPLE-STRUCTURED-LOCATION;VALUE=URI;X-ADDRESS=\, ;X-APPLE-RADIUS=100;X-TI
 TLE=:geo:0.000000,0.000000
END:VEVENT
BEGIN:VTIMEZONE
TZID:Europe/Berlin
X-LIC-LOCATION:Europe/Berlin
BEGIN:STANDARD
DTSTART:20251026T020000
TZOFFSETFROM:+0200
TZOFFSETTO:+0100
TZNAME:CET
END:STANDARD
END:VTIMEZONE
END:VCALENDAR