BEGIN:VCALENDAR
VERSION:2.0
PRODID:-//wp-events-plugin.com//7.2.3.1//EN
TZID:Europe/Berlin
X-WR-TIMEZONE:Europe/Berlin
BEGIN:VEVENT
UID:743@zukunftsaktiv.de
DTSTART;TZID=Europe/Berlin:20260320T160000
DTEND;TZID=Europe/Berlin:20260320T200000
DTSTAMP:20260122T222449Z
URL:https://zukunftsaktiv.de/veranstaltung/menschenrechte-und-rechte-der-n
 atur/
SUMMARY:Menschenrechte und Rechte der Natur
DESCRIPTION:Konkurrenz oder Verstärkung?
ATTACH;FMTTYPE=image/jpeg:https://zukunftsaktiv.de/wp-content/uploads/2026
 /01/260320-rechte-der-natur.jpg
CATEGORIES:Diskussion,Vortrag
LOCATION:CPH | Akademie Caritas-Pirckheimer-Haus gGmbH\, Königstr. 64\, N
 ürnberg\, 90402\, Deutschland
X-APPLE-STRUCTURED-LOCATION;VALUE=URI;X-ADDRESS=Königstr. 64\, Nürnberg\,
  90402\, Deutschland;X-APPLE-RADIUS=100;X-TITLE=CPH | Akademie Caritas-Pir
 ckheimer-Haus gGmbH:geo:0,0
END:VEVENT
BEGIN:VTIMEZONE
TZID:Europe/Berlin
X-LIC-LOCATION:Europe/Berlin
BEGIN:STANDARD
DTSTART:20251026T020000
TZOFFSETFROM:+0200
TZOFFSETTO:+0100
TZNAME:CET
END:STANDARD
END:VTIMEZONE
END:VCALENDAR