BEGIN:VCALENDAR
VERSION:2.0
PRODID:-//wp-events-plugin.com//7.2.3.1//EN
TZID:Europe/Berlin
X-WR-TIMEZONE:Europe/Berlin
BEGIN:VEVENT
UID:660@zukunftsaktiv.de
DTSTART;TZID=Europe/Berlin:20251119T190000
DTEND;TZID=Europe/Berlin:20251119T210000
DTSTAMP:20251101T193032Z
URL:https://zukunftsaktiv.de/veranstaltung/kommunale-waermeplanung-in-nuer
 nberg-2/
SUMMARY:Kommunale Wärmeplanung in Nürnberg
DESCRIPTION:\nInformation über die kommunale Wärmeplanung im speziellen F
 ernwärmenetz und die Herausforderungen.\n\n\n\nDer Referent Cengiz Şahin
  ist für Bündnis 90/Die Grünen im Nürnberger Stadtrat. Er ist Sprecher
  für Stadtentwicklung\, Bau- und Wohnungs- und Energiepolitik. Als Handwe
 rksmeister im Bereich Sanitär- und Lüftungstechnik ist er ein Fachmann a
 uf diesem Gebiet.Grußwort: Britta Walthelm\, Bündnis 90/Die Grünen\, Re
 ferentin für Umwelt und Gesundheit\, Moderation: Anja Löffler\, Vorsitze
 nde OV West.\n\n\n\nEintritt: kostenfrei\n
ATTACH;FMTTYPE=image/jpeg:https://zukunftsaktiv.de/wp-content/uploads/2025
 /11/251119-kommunale-waermeplanung.jpg
CATEGORIES:Vortrag
LOCATION:Villa Leon\, Philipp-Koerber-Weg 1\, Nürnberg\, Bayern\, 90439\, 
 Deutschland
X-APPLE-STRUCTURED-LOCATION;VALUE=URI;X-ADDRESS=Philipp-Koerber-Weg 1\, Nü
 rnberg\, Bayern\, 90439\, Deutschland;X-APPLE-RADIUS=100;X-TITLE=Villa Leo
 n:geo:0,0
END:VEVENT
BEGIN:VTIMEZONE
TZID:Europe/Berlin
X-LIC-LOCATION:Europe/Berlin
BEGIN:STANDARD
DTSTART:20251026T020000
TZOFFSETFROM:+0200
TZOFFSETTO:+0100
TZNAME:CET
END:STANDARD
END:VTIMEZONE
END:VCALENDAR