BEGIN:VCALENDAR
VERSION:2.0
PRODID:-//wp-events-plugin.com//7.2.3.1//EN
TZID:Europe/Berlin
X-WR-TIMEZONE:Europe/Berlin
BEGIN:VEVENT
UID:153@zukunftsaktiv.de
DTSTART;TZID=Europe/Berlin:20250214T160000
DTEND;TZID=Europe/Berlin:20250214T173000
DTSTAMP:20250210T214139Z
URL:https://zukunftsaktiv.de/veranstaltung/klimastreik-zur-bundestagswahl/
SUMMARY:Klimastreik zur Bundestagswahl
DESCRIPTION:\nDie vorgezogenen Wahlen treiben uns wieder auf die Straße! G
 emeinsam mit den Fridays for Future Fürth\, dem BUND Naturschutz e.V. Fü
 rth\, dem ADFC e.V. Fürth\, dem VCD e.V. Fürth\, dem Welthaus und Zukunf
 tsräume e.V. setzen wir uns für mehr Klimaschutz\, Umweltschutz und Gere
 chtigkeit ein!\n
CATEGORIES:Demonstration
LOCATION:Fürther Freiheit\, Fürther Freiheit\, Fürth\, Bayern\, 90762\, 
 Mittelfranken\, Deutschland
X-APPLE-STRUCTURED-LOCATION;VALUE=URI;X-ADDRESS=Fürther Freiheit\, Fürth\
 , Bayern\, 90762\, Mittelfranken\, Deutschland;X-APPLE-RADIUS=100;X-TITLE=
 Fürther Freiheit:geo:0,0
END:VEVENT
BEGIN:VTIMEZONE
TZID:Europe/Berlin
X-LIC-LOCATION:Europe/Berlin
BEGIN:STANDARD
DTSTART:20241027T020000
TZOFFSETFROM:+0200
TZOFFSETTO:+0100
TZNAME:CET
END:STANDARD
END:VTIMEZONE
END:VCALENDAR