BEGIN:VCALENDAR
VERSION:2.0
PRODID:-//wp-events-plugin.com//7.2.3.1//EN
TZID:Europe/Berlin
X-WR-TIMEZONE:Europe/Berlin
BEGIN:VEVENT
UID:731@zukunftsaktiv.de
DTSTART;TZID=Europe/Berlin:20260227T160000
DTEND;TZID=Europe/Berlin:20260227T180000
DTSTAMP:20260127T211712Z
URL:https://zukunftsaktiv.de/veranstaltung/klimastreik-sueddeutschland/
SUMMARY:Klimastreik Fürth
DESCRIPTION:Wir gehen auf die Straße: Für eine kommunale Wärmewende\, ge
 rechte Mobilität\, Flächen für Windkraft\, lebenswerte Städte 
ATTACH;FMTTYPE=image/jpeg:https://zukunftsaktiv.de/wp-content/uploads/2026
 /01/260227-klimastreik-fuerth-nuernberg.jpg
CATEGORIES:Demonstration
LOCATION:Grüner Markt\, Marktplatz\, Fürth\, Bayern\, 90762\, Deutschland
X-APPLE-STRUCTURED-LOCATION;VALUE=URI;X-ADDRESS=Marktplatz\, Fürth\, Bayer
 n\, 90762\, Deutschland;X-APPLE-RADIUS=100;X-TITLE=Grüner Markt:geo:0,0
END:VEVENT
BEGIN:VTIMEZONE
TZID:Europe/Berlin
X-LIC-LOCATION:Europe/Berlin
BEGIN:STANDARD
DTSTART:20251026T020000
TZOFFSETFROM:+0200
TZOFFSETTO:+0100
TZNAME:CET
END:STANDARD
END:VTIMEZONE
END:VCALENDAR