BEGIN:VCALENDAR
VERSION:2.0
PRODID:-//wp-events-plugin.com//7.2.3.1//EN
TZID:Europe/Berlin
X-WR-TIMEZONE:Europe/Berlin
BEGIN:VEVENT
UID:666@zukunftsaktiv.de
DTSTART;TZID=Europe/Berlin:20260124T093000
DTEND;TZID=Europe/Berlin:20260124T160000
DTSTAMP:20251124T145709Z
URL:https://zukunftsaktiv.de/veranstaltung/klima-jahresauftakt-2026-online
 /
SUMMARY:KLIMA-JAHRESAUFTAKT 2026 (online)
DESCRIPTION:Gemeinsam mit Euch wollen wir Antworten auf große Fragen finde
 n:\n1. Ist der Gasausstieg der nächste Kampf der Klimabewegung?\n2. Bunde
 sregierung blockiert: Welche Chancen stecken in Landtags- & Kommunalwahlen
 ?\n3. Welche Bündnisse\, Aktionsformen & Geschichten helfen uns 2026 am m
 eisten?
ATTACH;FMTTYPE=image/jpeg:https://zukunftsaktiv.de/wp-content/uploads/2025
 /11/260124-ffb-jahresauftakt.jpg
CATEGORIES:Vortrag,Workshop
LOCATION:\, \, 
GEO:0.000000;0.000000
X-APPLE-STRUCTURED-LOCATION;VALUE=URI;X-ADDRESS=\, ;X-APPLE-RADIUS=100;X-TI
 TLE=:geo:0.000000,0.000000
END:VEVENT
BEGIN:VTIMEZONE
TZID:Europe/Berlin
X-LIC-LOCATION:Europe/Berlin
BEGIN:STANDARD
DTSTART:20251026T020000
TZOFFSETFROM:+0200
TZOFFSETTO:+0100
TZNAME:CET
END:STANDARD
END:VTIMEZONE
END:VCALENDAR