BEGIN:VCALENDAR
VERSION:2.0
PRODID:-//wp-events-plugin.com//7.2.3.1//EN
TZID:Europe/Berlin
X-WR-TIMEZONE:Europe/Berlin
BEGIN:VEVENT
UID:902@zukunftsaktiv.de
DTSTART;TZID=Europe/Berlin:20260424T160000
DTEND;TZID=Europe/Berlin:20260424T170000
DTSTAMP:20260419T095510Z
URL:https://zukunftsaktiv.de/veranstaltung/k-reiche-stoppen-energiewende-r
 etten/
SUMMARY:K. Reiche stoppen - Energiewende retten
DESCRIPTION:\nWir zeigen\, dass wir nicht einverstanden sind mit den Bestre
 bungen von Wirtschaftsministerin Reiche die Energiewende zurückzudrehen u
 nd stattdessen fossile Infrastruktur weiter auszubauen. Was wir anlässlic
 h der derzeit enorm hohen Energie- und Spritpreise brauchen\, sind echte\,
  grüne Lösungen\, anstatt einseitige Symptombekämpfung\, die in Endeffe
 kt nur wieder den Reichen nützt anstelle von uns allen\n
ATTACH;FMTTYPE=image/jpeg:https://zukunftsaktiv.de/wp-content/uploads/2026
 /04/260424-gasaktionstag.jpeg
CATEGORIES:Demonstration
LOCATION:Lorenzer Platz\, Lorenzer Platz\, Nürnberg\, 90402\, Deutschland
X-APPLE-STRUCTURED-LOCATION;VALUE=URI;X-ADDRESS=Lorenzer Platz\, Nürnberg\
 , 90402\, Deutschland;X-APPLE-RADIUS=100;X-TITLE=Lorenzer Platz:geo:0,0
END:VEVENT
BEGIN:VTIMEZONE
TZID:Europe/Berlin
X-LIC-LOCATION:Europe/Berlin
BEGIN:DAYLIGHT
DTSTART:20260329T030000
TZOFFSETFROM:+0100
TZOFFSETTO:+0200
TZNAME:CEST
END:DAYLIGHT
END:VTIMEZONE
END:VCALENDAR