BEGIN:VCALENDAR
VERSION:2.0
PRODID:-//wp-events-plugin.com//7.2.3.1//EN
TZID:Europe/Berlin
X-WR-TIMEZONE:Europe/Berlin
BEGIN:VEVENT
UID:629@zukunftsaktiv.de
DTSTART;TZID=Europe/Berlin:20250928T100000
DTEND;TZID=Europe/Berlin:20250928T170000
DTSTAMP:20250915T082732Z
URL:https://zukunftsaktiv.de/veranstaltung/hoffnungskraft-mut-zu-einem-sch
 oepfungsgerechten-lebensstil/
SUMMARY:HOFFNUNGSKRAFT - Mut zu einem schöpfungsgerechten Lebensstil
DESCRIPTION:Hoffnungskraft.\nMut zu einem schöpfungsgerechten Lebensstil.\
 nSchöpfungstag im Erzbistum Bamberg
ATTACH;FMTTYPE=image/jpeg:https://zukunftsaktiv.de/wp-content/uploads/2025
 /09/250928-hoffnungskraft.jpg
LOCATION:CPH | Akademie Caritas-Pirckheimer-Haus gGmbH\, Königstr. 64\, N
 ürnberg\, 90402\, Deutschland
X-APPLE-STRUCTURED-LOCATION;VALUE=URI;X-ADDRESS=Königstr. 64\, Nürnberg\,
  90402\, Deutschland;X-APPLE-RADIUS=100;X-TITLE=CPH | Akademie Caritas-Pir
 ckheimer-Haus gGmbH:geo:0,0
END:VEVENT
BEGIN:VTIMEZONE
TZID:Europe/Berlin
X-LIC-LOCATION:Europe/Berlin
BEGIN:DAYLIGHT
DTSTART:20250330T030000
TZOFFSETFROM:+0100
TZOFFSETTO:+0200
TZNAME:CEST
END:DAYLIGHT
END:VTIMEZONE
END:VCALENDAR