BEGIN:VCALENDAR
VERSION:2.0
PRODID:-//wp-events-plugin.com//7.2.3.1//EN
TZID:Europe/Berlin
X-WR-TIMEZONE:Europe/Berlin
BEGIN:VEVENT
UID:694@zukunftsaktiv.de
DTSTART;TZID=Europe/Berlin:20260109T160000
DTEND;TZID=Europe/Berlin:20260109T180000
DTSTAMP:20251220T214130Z
URL:https://zukunftsaktiv.de/veranstaltung/geschenke-tauschboerse/
SUMMARY:Geschenke-Tauschbörse
DESCRIPTION:\nDu hast mal wieder Socken bekommen und hättest viel lieber e
 inen neuen Schal? So oder so ähnlich? Die Families For Future Fürth lade
 n herzlich dazu ein\, das Neue Jahr mit einer gemütlichen GESCHENK-TAUSCH
 -BÖRSE einzuläuten.\n\n\n\nOft schenkt man ja das\, worüber man sich se
 lbst freuen würde – aber die Beschenkten hätten sich manchmal vielleic
 ht doch über etwas anderes mehr gefreut… Deswegen tauschen wir unsere 
 „Ah\, oh…Danke..“- Präsente\, essen dabei die übrigen Plätzchen u
 nd teilen Gedanken zum alten oder neuen Jahr. Die ganze Familie ist willko
 mmen\, auch für kleine Kinder gibt es Platz und Spielmöglichkeiten. Wir 
 freuen uns auf einen entspannten AusTAUSCH mit Euch im Tataa!\n
ATTACH;FMTTYPE=image/jpeg:https://zukunftsaktiv.de/wp-content/uploads/2025
 /12/260109-tataa-geschenketausch.jpg
CATEGORIES:Markt,Sonstige Veranstaltung
LOCATION:Tataa! Der Fürther Zukunftssalon\, Marktplatz 4\, Fürth\, Bayern
 \, 90762\, Mittelfranken\, Deutschland
X-APPLE-STRUCTURED-LOCATION;VALUE=URI;X-ADDRESS=Marktplatz 4\, Fürth\, Bay
 ern\, 90762\, Mittelfranken\, Deutschland;X-APPLE-RADIUS=100;X-TITLE=Tataa
 ! Der Fürther Zukunftssalon:geo:0,0
END:VEVENT
BEGIN:VTIMEZONE
TZID:Europe/Berlin
X-LIC-LOCATION:Europe/Berlin
BEGIN:STANDARD
DTSTART:20251026T020000
TZOFFSETFROM:+0200
TZOFFSETTO:+0100
TZNAME:CET
END:STANDARD
END:VTIMEZONE
END:VCALENDAR