BEGIN:VCALENDAR
VERSION:2.0
PRODID:-//wp-events-plugin.com//7.2.3.1//EN
TZID:Europe/Berlin
X-WR-TIMEZONE:Europe/Berlin
BEGIN:VEVENT
UID:371@zukunftsaktiv.de
DTSTART;TZID=Europe/Berlin:20250502T163000
DTEND;TZID=Europe/Berlin:20250502T183000
DTSTAMP:20250428T175124Z
URL:https://zukunftsaktiv.de/veranstaltung/diversity-ride-fuerth/
SUMMARY:Diversity Ride Fürth
DESCRIPTION:Egal ob groß\, klein\, alt\, jung\, mit oder ohne Behinderung\
 , unabhängig von Hautfarbe\, Herkunft\, Geschlecht oder Orientierung – 
 wir alle lieben Radfahren! Bei der Diversity Ride zeigen wir\, wie bunt un
 d stark unsere Gesellschaft ist.
CATEGORIES:Demonstration
LOCATION:Tataa! Der Fürther Zukunftssalon\, Marktplatz 4\, Fürth\, Bayern
 \, 90762\, Mittelfranken\, Deutschland
X-APPLE-STRUCTURED-LOCATION;VALUE=URI;X-ADDRESS=Marktplatz 4\, Fürth\, Bay
 ern\, 90762\, Mittelfranken\, Deutschland;X-APPLE-RADIUS=100;X-TITLE=Tataa
 ! Der Fürther Zukunftssalon:geo:0,0
END:VEVENT
BEGIN:VTIMEZONE
TZID:Europe/Berlin
X-LIC-LOCATION:Europe/Berlin
BEGIN:DAYLIGHT
DTSTART:20250330T030000
TZOFFSETFROM:+0100
TZOFFSETTO:+0200
TZNAME:CEST
END:DAYLIGHT
END:VTIMEZONE
END:VCALENDAR