BEGIN:VCALENDAR
VERSION:2.0
PRODID:-//wp-events-plugin.com//7.2.3.1//EN
TZID:Europe/Berlin
X-WR-TIMEZONE:Europe/Berlin
BEGIN:VEVENT
UID:904@zukunftsaktiv.de
DTSTART;TZID=Europe/Berlin:20260424T160000
DTEND;TZID=Europe/Berlin:20260424T180000
DTSTAMP:20260420T081853Z
URL:https://zukunftsaktiv.de/veranstaltung/buergerbeteiligung-suedstadt-kl
 ima-meile/
SUMMARY:Bürgerbeteiligung Südstadt.Klima.Meile
DESCRIPTION:\nVon der ersten Idee einer Bewerbung um die Landesgartenschau 
 im Jahr 2021 bis zum Ausstellungskonzept für das Jahr 2030 werden die Bü
 rgerinnen und Bürger eingebunden. \n\n\n\nEine nachhaltige Verbesserung d
 er Lebensqualität wird dann entstehen\, wenn die Veränderungen von viele
 n mitgetragen werden\, wenn der Funke überspringt. Bewohnerinnen und Bewo
 hner sollen selbst aktiv werden\, Verantwortung übernehmen und mitgestalt
 en. Neben den städtischen Projekten wird möglichst niederschwellig ein W
 ettbewerb für Bürgerprojekte ausgelobt. Ideen zur Begrünung\, Entsiegel
 ung\, aber auch zu Mobilität\, Sharingkonzepten\, nachhaltige Geschäftsi
 deen\, Klimaschutz\, Umnutzung von Stadträumen oder zur sozialen Teilhabe
  sollen gezielt finanziell gefördert und professionell begleitet werden.\
 n\n\n\nAuftakt mit Workshops.\n\n\n\nLink zu weiteren Infos &amp\; Termine
 n: https://www.nuernberg2030.de/mitmachen\n
ATTACH;FMTTYPE=image/jpeg:https://zukunftsaktiv.de/wp-content/uploads/2026
 /04/260424-buergerbeteiligung.jpg
CATEGORIES:Workshop
LOCATION:Aufseßplatz\, Aufseßplatz\, Nürnberg\, 90459\, Deutschland
X-APPLE-STRUCTURED-LOCATION;VALUE=URI;X-ADDRESS=Aufseßplatz\, Nürnberg\, 
 90459\, Deutschland;X-APPLE-RADIUS=100;X-TITLE=Aufseßplatz:geo:0,0
END:VEVENT
BEGIN:VTIMEZONE
TZID:Europe/Berlin
X-LIC-LOCATION:Europe/Berlin
BEGIN:DAYLIGHT
DTSTART:20260329T030000
TZOFFSETFROM:+0100
TZOFFSETTO:+0200
TZNAME:CEST
END:DAYLIGHT
END:VTIMEZONE
END:VCALENDAR