BEGIN:VCALENDAR
VERSION:2.0
PRODID:-//wp-events-plugin.com//7.2.3.1//EN
TZID:Europe/Berlin
X-WR-TIMEZONE:Europe/Berlin
BEGIN:VEVENT
UID:910@zukunftsaktiv.de
DTSTART;TZID=Europe/Berlin:20260505T170000
DTEND;TZID=Europe/Berlin:20260505T190000
DTSTAMP:20260421T113855Z
URL:https://zukunftsaktiv.de/veranstaltung/buergerbeteiligung-suedstadt-kl
 ima-meile-4/
SUMMARY:Bürgerbeteiligung Landesgartenschau2030
DESCRIPTION:\nErste Information zu den grundsätzlichen Ideen.\n\n\n\nDrei 
 Planungsbüro präsentieren sich. Von 15 Uhr an steht das Team der Landesg
 artenschau Nürnberg 2030 GmbH am Infostand vor der Hochschule am Keßlerp
 latz.\n\n\n\nEine nachhaltige Verbesserung der Lebensqualität wird dann e
 ntstehen\, wenn die Veränderungen von vielen mitgetragen werden\, wenn de
 r Funke überspringt. Bewohnerinnen und Bewohner sollen selbst aktiv werde
 n\, Verantwortung übernehmen und mitgestalten. Neben den städtischen Pro
 jekten wird möglichst niederschwellig ein Wettbewerb für Bürgerprojekte
  ausgelobt. Ideen zur Begrünung\, Entsiegelung\, aber auch zu Mobilität\
 , Sharingkonzepten\, nachhaltige Geschäftsideen\, Klimaschutz\, Umnutzung
  von Stadträumen oder zur sozialen Teilhabe sollen gezielt finanziell gef
 ördert und professionell begleitet werden.\n\n\n\nLink zu weiteren Infos 
 &amp\; Terminen: https://www.nuernberg2030.de/mitmachen\n
ATTACH;FMTTYPE=image/jpeg:https://zukunftsaktiv.de/wp-content/uploads/2026
 /04/260424-buergerbeteiligung.jpg
CATEGORIES:Workshop
LOCATION:Technische Hochschule Nürnberg Georg Simon Ohm\, Keßlerplatz 12\
 , Nürnberg\, 90489\, Deutschland
X-APPLE-STRUCTURED-LOCATION;VALUE=URI;X-ADDRESS=Keßlerplatz 12\, Nürnberg
 \, 90489\, Deutschland;X-APPLE-RADIUS=100;X-TITLE=Technische Hochschule N
 ürnberg Georg Simon Ohm:geo:0,0
END:VEVENT
BEGIN:VTIMEZONE
TZID:Europe/Berlin
X-LIC-LOCATION:Europe/Berlin
BEGIN:DAYLIGHT
DTSTART:20260329T030000
TZOFFSETFROM:+0100
TZOFFSETTO:+0200
TZNAME:CEST
END:DAYLIGHT
END:VTIMEZONE
END:VCALENDAR