BEGIN:VCALENDAR
VERSION:2.0
PRODID:-//wp-events-plugin.com//7.2.3.1//EN
TZID:Europe/Berlin
X-WR-TIMEZONE:Europe/Berlin
BEGIN:VEVENT
UID:908@zukunftsaktiv.de
DTSTART;TZID=Europe/Berlin:20260609T160000
DTEND;TZID=Europe/Berlin:20260609T180000
DTSTAMP:20260421T103600Z
URL:https://zukunftsaktiv.de/veranstaltung/buergerbeteiligung-suedstadt-kl
 ima-meile-2/
SUMMARY:Bürgerbeteiligung Südstadt.Klima.Meile
DESCRIPTION:Zwischenstand.\nVon der ersten Idee einer Bewerbung um die Land
 esgartenschau im Jahr 2021 bis zum Ausstellungskonzept für das Jahr 2030 
 werden die Bürgerinnen und Bürger eingebunden.
ATTACH;FMTTYPE=image/jpeg:https://zukunftsaktiv.de/wp-content/uploads/2026
 /04/260424-buergerbeteiligung.jpg
CATEGORIES:Workshop
LOCATION:Karl-Bröger-Straße\, Karl-Bröger-Straße\, Nürnberg\, 90459\, 
 Deutschland
X-APPLE-STRUCTURED-LOCATION;VALUE=URI;X-ADDRESS=Karl-Bröger-Straße\, Nür
 nberg\, 90459\, Deutschland;X-APPLE-RADIUS=100;X-TITLE=Karl-Bröger-Straß
 e:geo:0,0
END:VEVENT
BEGIN:VTIMEZONE
TZID:Europe/Berlin
X-LIC-LOCATION:Europe/Berlin
BEGIN:DAYLIGHT
DTSTART:20260329T030000
TZOFFSETFROM:+0100
TZOFFSETTO:+0200
TZNAME:CEST
END:DAYLIGHT
END:VTIMEZONE
END:VCALENDAR