BEGIN:VCALENDAR
VERSION:2.0
PRODID:-//wp-events-plugin.com//7.2.3.1//EN
TZID:Europe/Berlin
X-WR-TIMEZONE:Europe/Berlin
BEGIN:VEVENT
UID:911@zukunftsaktiv.de
DTSTART;TZID=Europe/Berlin:20260612T160000
DTEND;TZID=Europe/Berlin:20260612T180000
DTSTAMP:20260421T114152Z
URL:https://zukunftsaktiv.de/veranstaltung/buergerbeteiligung-landesgarten
 schau2030/
SUMMARY:Bürgerbeteiligung Landesgartenschau2030
DESCRIPTION:\nZwischenpräsentation mit den Ideen aus der Bürgerschaft\n\n
 \n\nEine nachhaltige Verbesserung der Lebensqualität wird dann entstehen\
 , wenn die Veränderungen von vielen mitgetragen werden\, wenn der Funke 
 überspringt. Bewohnerinnen und Bewohner sollen selbst aktiv werden\, Vera
 ntwortung übernehmen und mitgestalten. Neben den städtischen Projekten w
 ird möglichst niederschwellig ein Wettbewerb für Bürgerprojekte ausgelo
 bt. Ideen zur Begrünung\, Entsiegelung\, aber auch zu Mobilität\, Sharin
 gkonzepten\, nachhaltige Geschäftsideen\, Klimaschutz\, Umnutzung von Sta
 dträumen oder zur sozialen Teilhabe sollen gezielt finanziell gefördert 
 und professionell begleitet werden.\n\n\n\nLink zu weiteren Infos &amp\; T
 erminen: https://www.nuernberg2030.de/mitmachen\n
ATTACH;FMTTYPE=image/jpeg:https://zukunftsaktiv.de/wp-content/uploads/2026
 /04/260424-buergerbeteiligung.jpg
CATEGORIES:Workshop
LOCATION:Keßlerplatz\, Keßlerplatz\, Nürnberg\, 90489\, Deutschland
X-APPLE-STRUCTURED-LOCATION;VALUE=URI;X-ADDRESS=Keßlerplatz\, Nürnberg\, 
 90489\, Deutschland;X-APPLE-RADIUS=100;X-TITLE=Keßlerplatz:geo:0,0
END:VEVENT
BEGIN:VTIMEZONE
TZID:Europe/Berlin
X-LIC-LOCATION:Europe/Berlin
BEGIN:DAYLIGHT
DTSTART:20260329T030000
TZOFFSETFROM:+0100
TZOFFSETTO:+0200
TZNAME:CEST
END:DAYLIGHT
END:VTIMEZONE
END:VCALENDAR