BEGIN:VCALENDAR
VERSION:2.0
PRODID:-//wp-events-plugin.com//7.2.3.1//EN
TZID:Europe/Berlin
X-WR-TIMEZONE:Europe/Berlin
BEGIN:VEVENT
UID:903@zukunftsaktiv.de
DTSTART;TZID=Europe/Berlin:20260420T190000
DTEND;TZID=Europe/Berlin:20260420T210000
DTSTAMP:20260419T110110Z
URL:https://zukunftsaktiv.de/veranstaltung/baulust-kontrovers-gruene-waend
 e-fuer-die-stadt/
SUMMARY:BauLust kontrovers: Grüne Wände für die Stadt
DESCRIPTION:\nFassadengrün für besseres Raumklima.\n\n\n\nFür eine klima
 resiliente Stadt brauchen wir mehr Grün. Entsiegeln und Flächen begrüne
 n\, keine Bäume mehr fällen und zusätzliche pflanzen\, jede Anstrengung
  ist wichtig in einer Stadt\, die von 190 untersuchten Städten Deutschlan
 ds an vorletzter Stelle steht. Grüne Häuser wären gut\, machen aber auc
 h viel Arbeit\, ist ein bekanntes Vorurteil. Wieviel Arbeit hängt aber au
 ch von der Art der Bepflanzung von Dach und Wand ab. Wie es gelingen kann 
 diskutieren wir anhand von Beispielen.&nbsp\;\n\n\n\nAn der neuen Wendesch
 leife der Linie 7\, Berliner Platz entsteht derzeit ein bewachsener ‚Gr
 ünling‘ ...Link zu weiteren Infos: https://www.baulust.de/.../baulust-k
 ontrovers-april26\n
ATTACH;FMTTYPE=image/jpeg:https://zukunftsaktiv.de/wp-content/uploads/2026
 /04/260420-gruene-waende.jpeg
CATEGORIES:Diskussion,Vortrag
LOCATION:Künstlerhaus / KunstKulturQuartier - Glasbau 2. Stock\, Königstr
 . 93\, Nürnberg\, Deutschland
X-APPLE-STRUCTURED-LOCATION;VALUE=URI;X-ADDRESS=Königstr. 93\, Nürnberg\,
  Deutschland;X-APPLE-RADIUS=100;X-TITLE=Künstlerhaus / KunstKulturQuartie
 r - Glasbau 2. Stock:geo:0,0
END:VEVENT
BEGIN:VTIMEZONE
TZID:Europe/Berlin
X-LIC-LOCATION:Europe/Berlin
BEGIN:DAYLIGHT
DTSTART:20260329T030000
TZOFFSETFROM:+0100
TZOFFSETTO:+0200
TZNAME:CEST
END:DAYLIGHT
END:VTIMEZONE
END:VCALENDAR