BEGIN:VCALENDAR
VERSION:2.0
PRODID:-//wp-events-plugin.com//7.2.3.1//EN
TZID:Europe/Berlin
X-WR-TIMEZONE:Europe/Berlin
BEGIN:VEVENT
UID:671@zukunftsaktiv.de
DTSTART;TZID=Europe/Berlin:20251118T193000
DTEND;TZID=Europe/Berlin:20251118T210000
DTSTAMP:20251109T213417Z
URL:https://zukunftsaktiv.de/veranstaltung/4-wahlen-im-maerz-2026-wir-vern
 etzen-uns-webinar/
SUMMARY:4 Wahlen im März 2026: Wir vernetzen uns! (Webinar)
DESCRIPTION:Durch die Vernetzung und Koordination von gemeinsamen Aktionen 
 werden unsere Bemühungen\, Klimaschutz und Demokratie zu Kommunal- und La
 ndtagswahlen in den Vordergrund zu rücken\, wirksamer und sichtbarer.\nSe
 i dabei!
ATTACH;FMTTYPE=image/jpeg:https://zukunftsaktiv.de/wp-content/uploads/2025
 /11/251118-ffb.jpg
CATEGORIES:Vortrag
LOCATION:\, \, 
GEO:0.000000;0.000000
X-APPLE-STRUCTURED-LOCATION;VALUE=URI;X-ADDRESS=\, ;X-APPLE-RADIUS=100;X-TI
 TLE=:geo:0.000000,0.000000
END:VEVENT
BEGIN:VTIMEZONE
TZID:Europe/Berlin
X-LIC-LOCATION:Europe/Berlin
BEGIN:STANDARD
DTSTART:20251026T020000
TZOFFSETFROM:+0200
TZOFFSETTO:+0100
TZNAME:CET
END:STANDARD
END:VTIMEZONE
END:VCALENDAR