BEGIN:VCALENDAR
VERSION:2.0
PRODID:-//wp-events-plugin.com//7.2.3.1//EN
TZID:Europe/Berlin
X-WR-TIMEZONE:Europe/Berlin
BEGIN:VEVENT
UID:142@zukunftsaktiv.de
DTSTART;TZID=Europe/Berlin;VALUE=DATE:20250208
DTEND;TZID=Europe/Berlin;VALUE=DATE:20250209
DTSTAMP:20250130T110527Z
URL:https://zukunftsaktiv.de/veranstaltung/3-internationaler-stadtkanalkon
 gress/
SUMMARY:3. Internationaler Stadtkanalkongress
DESCRIPTION:3. Internationaler Stadtkanalkongress.\nVorträge\, Diskussione
 n\, Ausstellung und vieles mehr!
ATTACH;FMTTYPE=image/jpeg:https://zukunftsaktiv.de/wp-content/uploads/2024
 /12/nfsk-512x512-1.png
CATEGORIES:Konferenz
LOCATION:Kulturwerkstatt Auf AEG\, Fürther Str. 244d\, Nürnberg\, Bayern\
 , 90429\, Deutschland
X-APPLE-STRUCTURED-LOCATION;VALUE=URI;X-ADDRESS=Fürther Str. 244d\, Nürnb
 erg\, Bayern\, 90429\, Deutschland;X-APPLE-RADIUS=100;X-TITLE=Kulturwerkst
 att Auf AEG:geo:0,0
END:VEVENT
BEGIN:VTIMEZONE
TZID:Europe/Berlin
X-LIC-LOCATION:Europe/Berlin
BEGIN:STANDARD
DTSTART:20241027T020000
TZOFFSETFROM:+0200
TZOFFSETTO:+0100
TZNAME:CET
END:STANDARD
END:VTIMEZONE
END:VCALENDAR